0.406295360144763700
0.000112310945239633260
0.0000667147965450553640
-0.406792029665282660
701755.06361939327
4536179.0240813401
