0.406252679162247110
0.00157507437687875810
0.00154653299175743740
-0.406861825859719140
701763.75055442983
4534171.0709805591
