0.406334465491516810
-0.000646785852431544170
-0.000619633538706272370
-0.406404521651184010
701753.76049061527
4532176.7155507896
