0.406365051674634440
0.000363765766414856820
0.000365023091168626920
-0.406562142190330710
701753.22837629740
4530170.0754143130
