0.406564796236167760
-0.000573216892957686510
-0.000536150251281004900
-0.406682724408399030
701762.25879640505
4524187.8653541012
