0.406579999310888510
-0.00102302200145359050
-0.000980956326802060300
-0.406689910448796380
701773.12314879801
4522176.2131724451
