0.406438003225558400
-0.00239986208340412610
-0.00238764610270825100
-0.406568793198309350
701747.57997515809
4520179.8811663426
