0.406440514184943870
-0.000520079721204705010
-0.000481846988253039920
-0.406590747891894090
699754.02934133180
4542174.1023183390
