0.406428543948772810
-0.00233950359670078140
-0.00233719071609665060
-0.406570573196896550
699758.57726599707
4540179.9749107827
