0.406216901769832490
0.000230879939568772990
0.000196611725824497910
-0.406682957313624750
699759.28918436507
4536173.4142252887
