0.406289116154768370
0.00101501808688662020
0.000976847092753564900
-0.406958249879272480
699753.23832218547
4534173.9246792905
