0.406336489813317820
-0.000182913527513013050
-0.000160501367640190490
-0.406482709312663610
699751.49746428628
4532171.7681090366
