0.406344091313165290
-0.000782198423855724180
-0.000822893789124574380
-0.406463418467163220
699759.19674863387
4524175.2339244885
