0.406239986575251340
-0.000659634157232253130
-0.000683682418840351200
-0.406808090934096030
699785.34570068226
4522175.4105835585
