0.406229591656981530
0.00140731793466504060
0.00138413571267006630
-0.406686985021876830
699763.14833260281
4520170.5833606720
