0.406412423629883060
-0.000679280544514583260
-0.000724323098221462560
-0.406510279104075610
697761.21674085280
4540174.8622674989
