0.406314586891974310
-0.00125469081166629330
-0.00130453252110811670
-0.406560593427738040
697760.40151099465
4534176.9031975046
