0.406232093543025140
-0.000549306395006899210
-0.000483613943472496670
-0.406457318015195410
697783.27324482601
4532176.1647211406
