0.406246661965630580
-0.000307284478713005010
-0.000383397004327472790
-0.406416037947830270
697783.50290047924
4522177.4256188059
