0.608652308275450920
-0.000400489108935422990
-0.000274851760164587150
-0.609596729283033990
697775.02609872445
4520170.9220311167
