0.406341619748489370
-0.000812804922630973230
-0.000871589913539284130
-0.406467510661240870
695758.81093528937
4540178.5748466402
