0.406210639284946610
-0.000911590066281027210
-0.000893354103744822800
-0.406465506994599880
695785.14476740314
4534180.0142945498
