0.406250558415289510
-0.000657168510368163710
-0.000671402458299384970
-0.406538561693714770
695759.54176259041
4532177.3928477932
