0.406333997139220640
0.0000114885464103360540
0.0000558237320484816920
-0.406481942049420010
695754.04504286067
4522172.0276787095
