0.406359139168805890
0.000415729334219049240
0.000305790186849720490
-0.406488330063775830
695783.52182486258
4520169.9959291173
