0.406363049379189160
-0.000459981473249880240
-0.000477404898068827700
-0.406654412524829980
695753.08946563606
4518172.5927313883
