0.406705497949500230
-0.000641711958400376200
-0.000572978548015098500
-0.406848292553930960
693738.94629346149
4540174.1439712467
