0.406378888907782180
-0.000916303860944672360
-0.000944182275818166490
-0.406466173322697970
693747.19690765999
4522171.2216428956
