0.406390188692560940
-0.00131098148204623270
-0.00129153724319454390
-0.406824276744055360
693746.88646086247
4520174.9864334110
