0.406277386038753520
-0.000168733575879095450
-0.000135309255327273770
-0.406366993268454880
693754.64138892037
4518173.6015171949
