0.406350631786229930
-0.00137011701279072650
-0.00135006110520122080
-0.406630387826795060
691756.88540380565
4540177.1935097249
