0.406467655592949340
-0.000441288062389319260
-0.000493747020438775350
-0.406022109315638540
691749.00729269232
4522171.7726839539
