0.609568756481194680
-0.00131191157946411950
-0.00111111613038623920
-0.609569298797866700
691742.33196537348
4520175.0411914634
