0.406319887129483140
-0.00130002270579454810
-0.00125679335564124910
-0.406550951670551940
691746.04511722340
4518176.1609829534
