0.406357446572796210
-0.000527706154104424500
-0.000600346343666129170
-0.406668594258888020
691784.72972580441
4516176.0342452712
