0.406409473851568950
0.000450121918799993280
0.000347740872658116860
-0.406514738788471660
689759.33984435117
4540168.8236353276
