0.406381439054596230
-0.000364372644696030620
-0.000351101328545420780
-0.406550461518182030
689783.02866749396
4538174.9602148412
