0.406336371348177130
-0.0000161159227847827780
0.0000121379647029441640
-0.406724886552401470
689764.22263770213
4522172.2009317437
