0.406333609083487090
-0.000277015958396332490
-0.000295144987359999590
-0.406550276899115490
689758.29050048487
4520177.7834027074
