0.406343689895380060
0.000530543988992851450
0.000565285866640393140
-0.406770654858555240
689758.35432888835
4518171.1360787749
