0.406370801495091420
-0.000479953040761121340
-0.000415303135597816070
-0.406687221007474290
689783.49935000762
4516172.0707718078
