0.406341848400952330
-0.000843021443263539700
-0.000774937981292537420
-0.406559189334099790
687749.60568175407
4538176.6235409947
