0.406407883941248880
-0.000289947542616436840
-0.000347652718050882750
-0.406515295440403160
687784.31055883365
4520174.3064534524
