0.406376847435048650
-0.000513211060434116330
-0.000445740188551477950
-0.406443756996485660
687766.41532972467
4518173.5148739181
