0.406399266602673730
-0.000845198134041918970
-0.000894295152007596320
-0.406438386812029820
687769.53291642049
4516174.5962041402
