0.406269850648640020
-0.00143853111060658560
-0.00146070958029078340
-0.406530865166063180
685766.40216805041
4538178.3381632604
