0.609486072109538310
-0.000203224673591028340
-0.0000175966237059862130
-0.609742894113699860
685753.04513955372
4520174.4880965734
