0.609452051827128800
0.00362011641083133080
0.00370731643378234730
-0.609366244924289480
685786.58626900148
4518170.8726956490
