0.609379018947089790
-0.000675914171724363250
-0.000551174714257473460
-0.609465769383890850
685756.10338706372
4516172.5574293435
