0.609584246397628540
-0.000938712229782456480
-0.000747481652263433190
-0.609484103531067300
685753.21253685385
4514173.9145118725
